BEGIN:VCALENDAR
VERSION:2.0
PRODID:-//demosphere.net//NONSGML kigkonsult.se iCalcreator 2.22.1//
METHOD:REQUEST
X-WR-TIMEZONE:Europe/Athens
BEGIN:VEVENT
UID:https://thessaloniki.kinimatorama.net/event/133537
DTSTAMP:20220115T100000Z
DESCRIPTION:περισσότερες πληροφορίες: https://thessaloniki.kinimatorama.net
 /event/133537 
DTSTART:20220115T100000Z
DTEND:20220115T110000Z
GEO:+40.633903;+22.95648
LOCATION:Θεσσαλονίκη\, \nΣχολή Θετικών Επιστημών (ΣΘΕ) ΑΠΘ
SUMMARY:Προσυγκέντρωση πορείας αλληλεγγύης στις καταλήψεις & στο Στέκι στο 
 Βιολογικό
URL:https://thessaloniki.kinimatorama.net/event/133537
END:VEVENT
END:VCALENDAR
