BEGIN:VCALENDAR
VERSION:2.0
PRODID:-//demosphere.net//NONSGML kigkonsult.se iCalcreator 2.22.1//
METHOD:REQUEST
X-WR-TIMEZONE:Europe/Athens
BEGIN:VEVENT
UID:https://thessaloniki.kinimatorama.net/event/133678
DTSTAMP:20220119T150000Z
DESCRIPTION:περισσότερες πληροφορίες: https://thessaloniki.kinimatorama.net
 /event/133678 
DTSTART:20220119T150000Z
DTEND:20220119T160000Z
GEO:+40.633903;+22.95648
LOCATION:Θεσσαλονίκη\, \nΣχολή Θετικών Επιστημών (ΣΘΕ) ΑΠΘ
SUMMARY:Αναβολή απολογιστικής συνέλευσης αλληλεγγύης στην κατάληψη Στέκι στ
 ο Βιολογικό
URL:https://thessaloniki.kinimatorama.net/event/133678
END:VEVENT
END:VCALENDAR
