BEGIN:VCALENDAR
VERSION:2.0
PRODID:-//demosphere.net//NONSGML kigkonsult.se iCalcreator 2.22.1//
METHOD:REQUEST
X-WR-TIMEZONE:Europe/Athens
BEGIN:VEVENT
UID:https://thessaloniki.kinimatorama.net/event/133930
DTSTAMP:20220127T163000Z
DESCRIPTION:περισσότερες πληροφορίες: https://thessaloniki.kinimatorama.net
 /event/133930 
DTSTART:20220127T163000Z
DTEND:20220127T173000Z
GEO:+40.633903;+22.95648
LOCATION:Θεσσαλονίκη\, \nΣχολή Θετικών Επιστημών (ΣΘΕ) ΑΠΘ
SUMMARY:Ανοιχτή συνέλευση για οργάνωση δράσεων για τις καταγγελίες στη Θεσσ
 αλονίκη
URL:https://thessaloniki.kinimatorama.net/event/133930
END:VEVENT
END:VCALENDAR
