BEGIN:VCALENDAR
VERSION:2.0
PRODID:-//demosphere.net//NONSGML kigkonsult.se iCalcreator 2.22.1//
METHOD:REQUEST
X-WR-TIMEZONE:Europe/Athens
BEGIN:VEVENT
UID:https://thessaloniki.kinimatorama.net/event/134079
DTSTAMP:20220213T100000Z
DESCRIPTION:περισσότερες πληροφορίες: https://thessaloniki.kinimatorama.net
 /event/134079 
DTSTART:20220213T100000Z
DTEND:20220213T110000Z
GEO:+40.633903;+22.95648
LOCATION:Θεσσαλονίκη\, \nΣχολή Θετικών Επιστημών (ΣΘΕ) ΑΠΘ
SUMMARY:Bazaar Βιβλίων και Κινηματικού Αρχείου & bar οικονομικής στήριξης
URL:https://thessaloniki.kinimatorama.net/event/134079
END:VEVENT
END:VCALENDAR
