BEGIN:VCALENDAR
VERSION:2.0
PRODID:-//demosphere.net//NONSGML kigkonsult.se iCalcreator 2.22.1//
METHOD:REQUEST
X-WR-TIMEZONE:Europe/Athens
BEGIN:VEVENT
UID:https://thessaloniki.kinimatorama.net/event/134115
DTSTAMP:20220202T070000Z
DESCRIPTION:περισσότερες πληροφορίες: https://thessaloniki.kinimatorama.net
 /event/134115 
DTSTART:20220202T070000Z
DTEND:20220202T080000Z
GEO:+37.995376;+23.743086
LOCATION:Αθήνα\, \nΔικαστήρια Ευελπίδων
SUMMARY:Δίκη 24ων μελών του Ρουβίκωνα για την κατάληψη στο Υπ. Περιβάλλοντο
 ς
URL:https://thessaloniki.kinimatorama.net/event/134115
END:VEVENT
END:VCALENDAR
