BEGIN:VCALENDAR
VERSION:2.0
PRODID:-//demosphere.net//NONSGML kigkonsult.se iCalcreator 2.22.1//
METHOD:REQUEST
X-WR-TIMEZONE:Europe/Athens
BEGIN:VEVENT
UID:https://thessaloniki.kinimatorama.net/event/134416
DTSTAMP:20220213T130000Z
DESCRIPTION:περισσότερες πληροφορίες: https://thessaloniki.kinimatorama.net
 /event/134416 
DTSTART:20220213T130000Z
DTEND:20220213T140000Z
GEO:+40.633903;+22.95648
LOCATION:Θεσσαλονίκη\, \nΣχολή Θετικών Επιστημών (ΣΘΕ) ΑΠΘ
SUMMARY:Προβολή Ντοκιμαντέρ 'Ψυχιατρική: Μια Βιομηχανία Θανάτου'
URL:https://thessaloniki.kinimatorama.net/event/134416
END:VEVENT
END:VCALENDAR
