BEGIN:VCALENDAR
VERSION:2.0
PRODID:-//demosphere.net//NONSGML kigkonsult.se iCalcreator 2.22.1//
METHOD:REQUEST
X-WR-TIMEZONE:Europe/Athens
BEGIN:VEVENT
UID:https://thessaloniki.kinimatorama.net/event/134418
DTSTAMP:20220209T080000Z
DESCRIPTION:περισσότερες πληροφορίες: https://thessaloniki.kinimatorama.net
 /event/134418 
DTSTART:20220209T080000Z
DTEND:20220209T090000Z
GEO:+40.639326;+22.932823
LOCATION:Θεσσαλονίκη\, \nΔικαστήρια Θεσσαλονίκης
SUMMARY:[Θεσσαλονίκη] Συγκέντρωση αλληλεγγύης στα συλληφθέντα συντρόφια της
  8/2
URL:https://thessaloniki.kinimatorama.net/event/134418
END:VEVENT
END:VCALENDAR
