BEGIN:VCALENDAR
VERSION:2.0
PRODID:-//demosphere.net//NONSGML kigkonsult.se iCalcreator 2.22.1//
METHOD:REQUEST
X-WR-TIMEZONE:Europe/Athens
BEGIN:VEVENT
UID:https://thessaloniki.kinimatorama.net/event/134569
DTSTAMP:20220217T190000Z
DESCRIPTION:περισσότερες πληροφορίες: https://thessaloniki.kinimatorama.net
 /event/134569 
DTSTART:20220217T190000Z
DTEND:20220217T200000Z
GEO:+40.633903;+22.95648
LOCATION:Θεσσαλονίκη\, \nΣχολή Θετικών Επιστημών (ΣΘΕ) ΑΠΘ
SUMMARY:(ΑΝΑΒΑΛΛΕΤΑΙ) Bar οικονομικής ενίσχυσης Ελευθεριακού Σχήματος Δασολ
 ογίας
URL:https://thessaloniki.kinimatorama.net/event/134569
END:VEVENT
END:VCALENDAR
