BEGIN:VCALENDAR
VERSION:2.0
PRODID:-//demosphere.net//NONSGML kigkonsult.se iCalcreator 2.22.1//
METHOD:REQUEST
X-WR-TIMEZONE:Europe/Athens
BEGIN:VEVENT
UID:https://thessaloniki.kinimatorama.net/event/134895
DTSTAMP:20220224T093000Z
DESCRIPTION:περισσότερες πληροφορίες: https://thessaloniki.kinimatorama.net
 /event/134895 
DTSTART:20220224T093000Z
DTEND:20220224T103000Z
GEO:+37.995376;+23.743086
LOCATION:Αθήνα\, \nΔικαστήρια Ευελπίδων
SUMMARY:Συγκέντρωση αλληλεγγύης στα διωκόμενα άτομα της Ελληνοαμερικανικής 
 Ένωσης
URL:https://thessaloniki.kinimatorama.net/event/134895
END:VEVENT
END:VCALENDAR
