BEGIN:VCALENDAR
VERSION:2.0
PRODID:-//demosphere.net//NONSGML kigkonsult.se iCalcreator 2.22.1//
METHOD:REQUEST
X-WR-TIMEZONE:Europe/Athens
BEGIN:VEVENT
UID:https://thessaloniki.kinimatorama.net/event/134985
DTSTAMP:20220305T123000Z
DESCRIPTION:περισσότερες πληροφορίες: https://thessaloniki.kinimatorama.net
 /event/134985 
DTSTART:20220305T123000Z
DTEND:20220305T133000Z
GEO:+37.904202;+23.751378
LOCATION:Αργυρούπολη\, \nΥπόστεγο \n(Αυτοδιαχειριζόμενο Στέκι Αργυρούπολης)
  \n25ης Μαρτίου 38 \n(πλησίον σταθμού Μετρό ΑΡΓΥΡΟΥΠΟΛΗ)
SUMMARY:Κάλεσμα σε εργατικό καφενείο – ανοιχτή συζήτηση για το ζήτημα της «
 ακρίβειας»
URL:https://thessaloniki.kinimatorama.net/event/134985
END:VEVENT
END:VCALENDAR
