BEGIN:VCALENDAR
VERSION:2.0
PRODID:-//demosphere.net//NONSGML kigkonsult.se iCalcreator 2.22.1//
METHOD:REQUEST
X-WR-TIMEZONE:Europe/Athens
BEGIN:VEVENT
UID:https://thessaloniki.kinimatorama.net/event/135086
DTSTAMP:20220308T100000Z
DESCRIPTION:περισσότερες πληροφορίες: https://thessaloniki.kinimatorama.net
 /event/135086 
DTSTART:20220308T100000Z
DTEND:20220308T110000Z
GEO:+37.969017;+23.780422
LOCATION:Ζωγράφου\, \nΑναρχικό Στέκι Φιλοσοφικής \nαίθουσα 819\, 8ος όροφος
  \nΠανεπιστημιούπολη Ζωγράφου
SUMMARY:Συγκέντρωση ενάντια στην πανεπιστημιακή αστυνομία
URL:https://thessaloniki.kinimatorama.net/event/135086
END:VEVENT
END:VCALENDAR
