BEGIN:VCALENDAR
VERSION:2.0
PRODID:-//demosphere.net//NONSGML kigkonsult.se iCalcreator 2.22.1//
METHOD:REQUEST
X-WR-TIMEZONE:Europe/Athens
BEGIN:VEVENT
UID:https://thessaloniki.kinimatorama.net/event/135135
DTSTAMP:20220302T170000Z
DESCRIPTION:περισσότερες πληροφορίες: https://thessaloniki.kinimatorama.net
 /event/135135 
DTSTART:20220302T170000Z
DTEND:20220302T180000Z
GEO:+37.994079;+23.732083
LOCATION:Αθήνα\, \nΑΣΟΕΕ \nΠατησίων 76 (28ης Οκτωβρίου) \n(πλησίον σταθμού 
 ΗΣΑΠ Βικτώρια)
SUMMARY:Συνελευση για τη διοργανωση δρασεων σχετικα με τον πολεμο στην ουκρ
 ανια
URL:https://thessaloniki.kinimatorama.net/event/135135
END:VEVENT
END:VCALENDAR
