BEGIN:VCALENDAR
VERSION:2.0
PRODID:-//demosphere.net//NONSGML kigkonsult.se iCalcreator 2.22.1//
METHOD:REQUEST
X-WR-TIMEZONE:Europe/Athens
BEGIN:VEVENT
UID:https://thessaloniki.kinimatorama.net/event/135208
DTSTAMP:20220310T143000Z
DESCRIPTION:περισσότερες πληροφορίες: https://thessaloniki.kinimatorama.net
 /event/135208 
DTSTART:20220310T143000Z
DTEND:20220310T153000Z
GEO:+40.633903;+22.95648
LOCATION:Θεσσαλονίκη\, \nΣχολή Θετικών Επιστημών (ΣΘΕ) ΑΠΘ
SUMMARY:Ανοιχτή ενημέρωση-συζήτηση για τα 3 συλληφθέντα της 8.2
URL:https://thessaloniki.kinimatorama.net/event/135208
END:VEVENT
END:VCALENDAR
