BEGIN:VCALENDAR
VERSION:2.0
PRODID:-//demosphere.net//NONSGML kigkonsult.se iCalcreator 2.22.1//
METHOD:REQUEST
X-WR-TIMEZONE:Europe/Athens
BEGIN:VEVENT
UID:https://thessaloniki.kinimatorama.net/event/135230
DTSTAMP:20220313T140000Z
DESCRIPTION:περισσότερες πληροφορίες: https://thessaloniki.kinimatorama.net
 /event/135230 
DTSTART:20220313T140000Z
DTEND:20220313T150000Z
GEO:+40.633903;+22.95648
LOCATION:Θεσσαλονίκη\, \nΣχολή Θετικών Επιστημών (ΣΘΕ) ΑΠΘ
SUMMARY:Συλλογή - Bazaar Βιβλίων & Κινηματικού Αρχείου και Προβολή
URL:https://thessaloniki.kinimatorama.net/event/135230
END:VEVENT
END:VCALENDAR
