BEGIN:VCALENDAR
VERSION:2.0
PRODID:-//demosphere.net//NONSGML kigkonsult.se iCalcreator 2.22.1//
METHOD:REQUEST
X-WR-TIMEZONE:Europe/Athens
BEGIN:VEVENT
UID:https://thessaloniki.kinimatorama.net/event/135404
DTSTAMP:20220311T190000Z
DESCRIPTION:περισσότερες πληροφορίες: https://thessaloniki.kinimatorama.net
 /event/135404 
DTSTART:20220311T190000Z
DTEND:20220311T200000Z
GEO:+40.633903;+22.95648
LOCATION:Θεσσαλονίκη\, \nΣχολή Θετικών Επιστημών (ΣΘΕ) ΑΠΘ
SUMMARY:Αντιπολεμική προβολή 'Grave of the Fireflies' (1988)
URL:https://thessaloniki.kinimatorama.net/event/135404
END:VEVENT
END:VCALENDAR
