BEGIN:VCALENDAR
VERSION:2.0
PRODID:-//demosphere.net//NONSGML kigkonsult.se iCalcreator 2.22.1//
METHOD:REQUEST
X-WR-TIMEZONE:Europe/Athens
BEGIN:VEVENT
UID:https://thessaloniki.kinimatorama.net/event/135430
DTSTAMP:20220311T071500Z
DESCRIPTION:περισσότερες πληροφορίες: https://thessaloniki.kinimatorama.net
 /event/135430 
DTSTART:20220311T071500Z
DTEND:20220311T081500Z
GEO:+40.639326;+22.932823
LOCATION:Θεσσαλονίκη\, \nΔικαστήρια Θεσσαλονίκης
SUMMARY:Συγκέντρωση ενάντια στην έξωση μετανάστριας από τη μκο 'Δράσεις'
URL:https://thessaloniki.kinimatorama.net/event/135430
END:VEVENT
END:VCALENDAR
