BEGIN:VCALENDAR
VERSION:2.0
PRODID:-//demosphere.net//NONSGML kigkonsult.se iCalcreator 2.22.1//
METHOD:REQUEST
X-WR-TIMEZONE:Europe/Athens
BEGIN:VEVENT
UID:https://thessaloniki.kinimatorama.net/event/135689
DTSTAMP:20220321T183000Z
DESCRIPTION:περισσότερες πληροφορίες: https://thessaloniki.kinimatorama.net
 /event/135689 
DTSTART:20220321T183000Z
DTEND:20220321T193000Z
GEO:+40.633903;+22.95648
LOCATION:Θεσσαλονίκη\, \nΣχολή Θετικών Επιστημών (ΣΘΕ) ΑΠΘ
SUMMARY:Βιωματικό εργαστήριο έκφρασης\, επικοινωνίας & παιχνιδιού NDI & ΘτΚ
URL:https://thessaloniki.kinimatorama.net/event/135689
END:VEVENT
END:VCALENDAR
