BEGIN:VCALENDAR
VERSION:2.0
PRODID:-//demosphere.net//NONSGML kigkonsult.se iCalcreator 2.22.1//
METHOD:REQUEST
X-WR-TIMEZONE:Europe/Athens
BEGIN:VEVENT
UID:https://thessaloniki.kinimatorama.net/event/136241
DTSTAMP:20220403T163000Z
DESCRIPTION:περισσότερες πληροφορίες: https://thessaloniki.kinimatorama.net
 /event/136241 
DTSTART:20220403T163000Z
DTEND:20220403T173000Z
GEO:+40.633903;+22.95648
LOCATION:Θεσσαλονίκη\, \nΣχολή Θετικών Επιστημών (ΣΘΕ) ΑΠΘ
SUMMARY:Κάλεσμα: ανοιχτή συνέλευση ενάντια στην ακρίβεια και την εξαθλίωση 
 των ζωών μας
URL:https://thessaloniki.kinimatorama.net/event/136241
END:VEVENT
END:VCALENDAR
