BEGIN:VCALENDAR
VERSION:2.0
PRODID:-//demosphere.net//NONSGML kigkonsult.se iCalcreator 2.22.1//
METHOD:REQUEST
X-WR-TIMEZONE:Europe/Athens
BEGIN:VEVENT
UID:https://thessaloniki.kinimatorama.net/event/137266
DTSTAMP:20220501T073000Z
DESCRIPTION:περισσότερες πληροφορίες: https://thessaloniki.kinimatorama.net
 /event/137266 
DTSTART:20220501T073000Z
DTEND:20220501T083000Z
GEO:+39.555039;+21.767766
LOCATION:Τρίκαλα\, \nΠλατεία Ρήγα Φεραίου
SUMMARY:Εργατική Πρωτομαγιά 2022/ Ανεξάρτητη Ταξική Συγκέντρωση
URL:https://thessaloniki.kinimatorama.net/event/137266
END:VEVENT
END:VCALENDAR
