BEGIN:VCALENDAR
VERSION:2.0
PRODID:-//demosphere.net//NONSGML kigkonsult.se iCalcreator 2.22.1//
METHOD:REQUEST
X-WR-TIMEZONE:Europe/Athens
BEGIN:VEVENT
UID:https://thessaloniki.kinimatorama.net/event/137864
DTSTAMP:20220510T083000Z
DESCRIPTION:περισσότερες πληροφορίες: https://thessaloniki.kinimatorama.net
 /event/137864 
DTSTART:20220510T083000Z
DTEND:20220510T093000Z
GEO:+40.633903;+22.95648
LOCATION:Θεσσαλονίκη\, \nΣχολή Θετικών Επιστημών (ΣΘΕ) ΑΠΘ
SUMMARY:(επείγον) Συγκέντρωση υπεράσπισης του ασύλου
URL:https://thessaloniki.kinimatorama.net/event/137864
END:VEVENT
END:VCALENDAR
