BEGIN:VCALENDAR
VERSION:2.0
PRODID:-//demosphere.net//NONSGML kigkonsult.se iCalcreator 2.22.1//
METHOD:REQUEST
X-WR-TIMEZONE:Europe/Athens
BEGIN:VEVENT
UID:https://thessaloniki.kinimatorama.net/event/138036
DTSTAMP:20220513T150000Z
DESCRIPTION:περισσότερες πληροφορίες: https://thessaloniki.kinimatorama.net
 /event/138036 
DTSTART:20220513T150000Z
DTEND:20220513T160000Z
GEO:+40.633903;+22.95648
LOCATION:Θεσσαλονίκη\, \nΣχολή Θετικών Επιστημών (ΣΘΕ) ΑΠΘ
SUMMARY:Εκδήλωση - Συζήτηση : ''Αν φύγουμε\, θα μείνουν μόνο οι τοίχοι''
URL:https://thessaloniki.kinimatorama.net/event/138036
END:VEVENT
END:VCALENDAR
