BEGIN:VCALENDAR
VERSION:2.0
PRODID:-//demosphere.net//NONSGML kigkonsult.se iCalcreator 2.22.1//
METHOD:REQUEST
X-WR-TIMEZONE:Europe/Athens
BEGIN:VEVENT
UID:https://thessaloniki.kinimatorama.net/event/138531
DTSTAMP:20220528T120000Z
DESCRIPTION:περισσότερες πληροφορίες: https://thessaloniki.kinimatorama.net
 /event/138531 
DTSTART:20220528T120000Z
DTEND:20220528T130000Z
GEO:+40.633903;+22.95648
LOCATION:Θεσσαλονίκη\, \nΣχολή Θετικών Επιστημών (ΣΘΕ) ΑΠΘ
SUMMARY:2ήμερο Συνέδριο Αυτόνομων-Ελευθεριακών Σχημάτων & Ομάδων\, στην Θεσ
 σαλονίκη
URL:https://thessaloniki.kinimatorama.net/event/138531
END:VEVENT
END:VCALENDAR
