BEGIN:VCALENDAR
VERSION:2.0
PRODID:-//demosphere.net//NONSGML kigkonsult.se iCalcreator 2.22.1//
METHOD:REQUEST
X-WR-TIMEZONE:Europe/Athens
BEGIN:VEVENT
UID:https://thessaloniki.kinimatorama.net/event/138928
DTSTAMP:20220609T060000Z
DESCRIPTION:περισσότερες πληροφορίες: https://thessaloniki.kinimatorama.net
 /event/138928 
DTSTART:20220609T060000Z
DTEND:20220609T070000Z
GEO:+37.995376;+23.743086
LOCATION:Αθήνα\, \nΔικαστήρια Ευελπίδων
SUMMARY:Εκδίκαση της ακυρότητας της παράνομης και εκδικητικής απόλυσης του 
 συναδέλφου
URL:https://thessaloniki.kinimatorama.net/event/138928
END:VEVENT
END:VCALENDAR
