BEGIN:VCALENDAR
VERSION:2.0
PRODID:-//demosphere.net//NONSGML kigkonsult.se iCalcreator 2.22.1//
METHOD:REQUEST
X-WR-TIMEZONE:Europe/Athens
BEGIN:VEVENT
UID:https://thessaloniki.kinimatorama.net/event/138980
DTSTAMP:20220603T080000Z
DESCRIPTION:περισσότερες πληροφορίες: https://thessaloniki.kinimatorama.net
 /event/138980 
DTSTART:20220603T080000Z
DTEND:20220603T090000Z
GEO:+40.633903;+22.95648
LOCATION:Θεσσαλονίκη\, \nΣχολή Θετικών Επιστημών (ΣΘΕ) ΑΠΘ
SUMMARY:(ακυρώνεται) Αντικατασταλτική συγκέντρωση
URL:https://thessaloniki.kinimatorama.net/event/138980
END:VEVENT
END:VCALENDAR
