BEGIN:VCALENDAR
VERSION:2.0
PRODID:-//demosphere.net//NONSGML kigkonsult.se iCalcreator 2.22.1//
METHOD:REQUEST
X-WR-TIMEZONE:Europe/Athens
BEGIN:VEVENT
UID:https://thessaloniki.kinimatorama.net/event/139319
DTSTAMP:20220610T140000Z
DESCRIPTION:περισσότερες πληροφορίες: https://thessaloniki.kinimatorama.net
 /event/139319 
DTSTART:20220610T140000Z
DTEND:20220610T150000Z
GEO:+40.633903;+22.95648
LOCATION:Θεσσαλονίκη\, \nΣχολή Θετικών Επιστημών (ΣΘΕ) ΑΠΘ
SUMMARY:Συζήτηση: Οι ταξικοί φραγμοί εντός και εκτός του Πανεπιστημίου
URL:https://thessaloniki.kinimatorama.net/event/139319
END:VEVENT
END:VCALENDAR
