BEGIN:VCALENDAR
VERSION:2.0
PRODID:-//demosphere.net//NONSGML kigkonsult.se iCalcreator 2.22.1//
METHOD:REQUEST
X-WR-TIMEZONE:Europe/Athens
BEGIN:VEVENT
UID:https://thessaloniki.kinimatorama.net/event/139368
DTSTAMP:20220609T100000Z
DESCRIPTION:περισσότερες πληροφορίες: https://thessaloniki.kinimatorama.net
 /event/139368 
DTSTART:20220609T100000Z
DTEND:20220609T110000Z
GEO:+40.633903;+22.95648
LOCATION:Θεσσαλονίκη\, \nΣχολή Θετικών Επιστημών (ΣΘΕ) ΑΠΘ
SUMMARY:Συγκέντρωση στη ΣΘΕ για παρεμβάσεις στη Λέσχη και τη Βιβλιοθήκη του
  ΑΠΘ
URL:https://thessaloniki.kinimatorama.net/event/139368
END:VEVENT
END:VCALENDAR
