BEGIN:VCALENDAR
VERSION:2.0
PRODID:-//demosphere.net//NONSGML kigkonsult.se iCalcreator 2.22.1//
METHOD:REQUEST
X-WR-TIMEZONE:Europe/Athens
BEGIN:VEVENT
UID:https://thessaloniki.kinimatorama.net/event/139683
DTSTAMP:20220623T060000Z
DESCRIPTION:περισσότερες πληροφορίες: https://thessaloniki.kinimatorama.net
 /event/139683 
DTSTART:20220623T060000Z
DTEND:20220623T070000Z
GEO:+40.639326;+22.932823
LOCATION:Θεσσαλονίκη\, \nΔικαστήρια Θεσσαλονίκης
SUMMARY:(ακυρώνεται) Συγκέντρωση αλληλεγγύης στους διωκόμενους της Μητρόπολ
 ης
URL:https://thessaloniki.kinimatorama.net/event/139683
END:VEVENT
END:VCALENDAR
