BEGIN:VCALENDAR
VERSION:2.0
PRODID:-//demosphere.net//NONSGML kigkonsult.se iCalcreator 2.22.1//
METHOD:REQUEST
X-WR-TIMEZONE:Europe/Athens
BEGIN:VEVENT
UID:https://thessaloniki.kinimatorama.net/event/139737
DTSTAMP:20220622T070000Z
DESCRIPTION:περισσότερες πληροφορίες: https://thessaloniki.kinimatorama.net
 /event/139737 
DTSTART:20220622T070000Z
DTEND:20220622T080000Z
GEO:+40.639326;+22.932823
LOCATION:Θεσσαλονίκη\, \nΔικαστήρια Θεσσαλονίκης
SUMMARY:Συγκεντρωση για τις συλληψεις της πορειας εναντια στην δολοφονια Ν.
 Σαμπανη
URL:https://thessaloniki.kinimatorama.net/event/139737
END:VEVENT
END:VCALENDAR
