BEGIN:VCALENDAR
VERSION:2.0
PRODID:-//demosphere.net//NONSGML kigkonsult.se iCalcreator 2.22.1//
METHOD:REQUEST
X-WR-TIMEZONE:Europe/Athens
BEGIN:VEVENT
UID:https://thessaloniki.kinimatorama.net/event/140881
DTSTAMP:20220810T153000Z
DESCRIPTION:περισσότερες πληροφορίες: https://thessaloniki.kinimatorama.net
 /event/140881 
DTSTART:20220810T153000Z
DTEND:20220810T163000Z
GEO:+37.988214;+23.738987
LOCATION:Αθήνα\, \nΛόφος Στρέφη \nΕξάρχεια
SUMMARY:Ανοιχτή Συνέλευση Αναρχικών
URL:https://thessaloniki.kinimatorama.net/event/140881
END:VEVENT
END:VCALENDAR
