BEGIN:VCALENDAR
VERSION:2.0
PRODID:-//demosphere.net//NONSGML kigkonsult.se iCalcreator 2.22.1//
METHOD:REQUEST
X-WR-TIMEZONE:Europe/Athens
BEGIN:VEVENT
UID:https://thessaloniki.kinimatorama.net/event/140889
DTSTAMP:20220811T113000Z
DESCRIPTION:περισσότερες πληροφορίες: https://thessaloniki.kinimatorama.net
 /event/140889 
DTSTART:20220811T113000Z
DTEND:20220811T123000Z
GEO:+37.995376;+23.743086
LOCATION:Αθήνα\, \nΔικαστήρια Ευελπίδων
SUMMARY:[Αθήνα] Συγκέντρωση αλληλεγγύης στους 2 συλληφθέντες από την πρωινή
  συγκέντρωση
URL:https://thessaloniki.kinimatorama.net/event/140889
END:VEVENT
END:VCALENDAR
