BEGIN:VCALENDAR
VERSION:2.0
PRODID:-//demosphere.net//NONSGML kigkonsult.se iCalcreator 2.22.1//
METHOD:REQUEST
X-WR-TIMEZONE:Europe/Athens
BEGIN:VEVENT
UID:https://thessaloniki.kinimatorama.net/event/141552
DTSTAMP:20220915T180000Z
DESCRIPTION:περισσότερες πληροφορίες: https://thessaloniki.kinimatorama.net
 /event/141552 
DTSTART:20220915T180000Z
DTEND:20220915T190000Z
GEO:+37.988037;+23.754651
LOCATION:Αθήνα\, \nΚατειλημμένα Προσφυγικά Λ. Αλεξάνδρας \nΑμπελόκηποι \n(3
 ' περπάτημα από Μετρό Αμπελόκηποι)
SUMMARY:[Eng/Gr]Προβολή ταινίας: Το Τέλος θα είναι θεαματικό
URL:https://thessaloniki.kinimatorama.net/event/141552
END:VEVENT
END:VCALENDAR
