BEGIN:VCALENDAR
VERSION:2.0
PRODID:-//demosphere.net//NONSGML kigkonsult.se iCalcreator 2.22.1//
METHOD:REQUEST
X-WR-TIMEZONE:Europe/Athens
BEGIN:VEVENT
UID:https://thessaloniki.kinimatorama.net/event/141618
DTSTAMP:20220916T080000Z
DESCRIPTION:περισσότερες πληροφορίες: https://thessaloniki.kinimatorama.net
 /event/141618 
DTSTART:20220916T080000Z
DTEND:20220916T090000Z
GEO:+40.633903;+22.95648
LOCATION:Θεσσαλονίκη\, \nΣχολή Θετικών Επιστημών (ΣΘΕ) ΑΠΘ
SUMMARY:Συγκέντρρωση ενάντια στην προσπάθεια εγκατάστασης πανεπιστημιακής α
 στυνομίας
URL:https://thessaloniki.kinimatorama.net/event/141618
END:VEVENT
END:VCALENDAR
