BEGIN:VCALENDAR
VERSION:2.0
PRODID:-//demosphere.net//NONSGML kigkonsult.se iCalcreator 2.22.1//
METHOD:REQUEST
X-WR-TIMEZONE:Europe/Athens
BEGIN:VEVENT
UID:https://thessaloniki.kinimatorama.net/event/141721
DTSTAMP:20220921T170000Z
DESCRIPTION:περισσότερες πληροφορίες: https://thessaloniki.kinimatorama.net
 /event/141721 
DTSTART:20220921T170000Z
DTEND:20220921T180000Z
GEO:+37.994854;+23.740732
LOCATION:Αθήνα\, \nΠλατεία Πρωτομαγιάς \nΠεδίον του Άρεως
SUMMARY:Συνέλευση αλληλεγγύης στους 4 διωκόμενους/η για την υπόθεση 'Σύντρο
 φοι-ισσες'
URL:https://thessaloniki.kinimatorama.net/event/141721
END:VEVENT
END:VCALENDAR
