BEGIN:VCALENDAR
VERSION:2.0
PRODID:-//demosphere.net//NONSGML kigkonsult.se iCalcreator 2.22.1//
METHOD:REQUEST
X-WR-TIMEZONE:Europe/Athens
BEGIN:VEVENT
UID:https://thessaloniki.kinimatorama.net/event/14202
DTSTAMP:20111030T160000Z
DESCRIPTION:περισσότερες πληροφορίες: https://thessaloniki.kinimatorama.net
 /event/14202 
DTSTART:20111030T160000Z
DTEND:20111030T170000Z
GEO:+40.633903;+22.95648
LOCATION:Θεσσαλονίκη\, \nΣχολή Θετικών Επιστημών (ΣΘΕ) ΑΠΘ
SUMMARY:Ανοιχτή συζήτηση για την οργάνωση δράσεων μέσα στην εβδομάδα
URL:https://thessaloniki.kinimatorama.net/event/14202
END:VEVENT
END:VCALENDAR
