BEGIN:VCALENDAR
VERSION:2.0
PRODID:-//demosphere.net//NONSGML kigkonsult.se iCalcreator 2.22.1//
METHOD:REQUEST
X-WR-TIMEZONE:Europe/Athens
BEGIN:VEVENT
UID:https://thessaloniki.kinimatorama.net/event/142284
DTSTAMP:20221003T120000Z
DESCRIPTION:περισσότερες πληροφορίες: https://thessaloniki.kinimatorama.net
 /event/142284 
DTSTART:20221003T120000Z
DTEND:20221003T130000Z
GEO:+40.633903;+22.95648
LOCATION:Θεσσαλονίκη\, \nΣχολή Θετικών Επιστημών (ΣΘΕ) ΑΠΘ
SUMMARY:Συγγραφή ανοιχτού πλαισίου του Ελευθεριακού Σχήματος Πληροφορικής
URL:https://thessaloniki.kinimatorama.net/event/142284
END:VEVENT
END:VCALENDAR
