BEGIN:VCALENDAR
VERSION:2.0
PRODID:-//demosphere.net//NONSGML kigkonsult.se iCalcreator 2.22.1//
METHOD:REQUEST
X-WR-TIMEZONE:Europe/Athens
BEGIN:VEVENT
UID:https://thessaloniki.kinimatorama.net/event/14229
DTSTAMP:20111102T160000Z
DESCRIPTION:περισσότερες πληροφορίες: https://thessaloniki.kinimatorama.net
 /event/14229 
DTSTART:20111102T160000Z
DTEND:20111102T170000Z
GEO:+38.00095;+23.737762
LOCATION:Αθήνα\, \nΔημοτική Αγορά Κυψέλης \nΦωκίωνος Νέγρη 42
SUMMARY:Συνέλευση αντίστασης και αλληλεγγύης Κυψέλης/Πατησίων
URL:https://thessaloniki.kinimatorama.net/event/14229
END:VEVENT
END:VCALENDAR
