BEGIN:VCALENDAR
VERSION:2.0
PRODID:-//demosphere.net//NONSGML kigkonsult.se iCalcreator 2.22.1//
METHOD:REQUEST
X-WR-TIMEZONE:Europe/Athens
BEGIN:VEVENT
UID:https://thessaloniki.kinimatorama.net/event/142621
DTSTAMP:20221010T170000Z
DESCRIPTION:περισσότερες πληροφορίες: https://thessaloniki.kinimatorama.net
 /event/142621 
DTSTART:20221010T170000Z
DTEND:20221010T180000Z
GEO:+40.633903;+22.95648
LOCATION:Θεσσαλονίκη\, \nΣχολή Θετικών Επιστημών (ΣΘΕ) ΑΠΘ
SUMMARY:Καλεσμα σε συνελευση για πορεια για Β.Μαγγο στο Βολο
URL:https://thessaloniki.kinimatorama.net/event/142621
END:VEVENT
END:VCALENDAR
