BEGIN:VCALENDAR
VERSION:2.0
PRODID:-//demosphere.net//NONSGML kigkonsult.se iCalcreator 2.22.1//
METHOD:REQUEST
X-WR-TIMEZONE:Europe/Athens
BEGIN:VEVENT
UID:https://thessaloniki.kinimatorama.net/event/142764
DTSTAMP:20221012T060000Z
DESCRIPTION:περισσότερες πληροφορίες: https://thessaloniki.kinimatorama.net
 /event/142764 
DTSTART:20221012T060000Z
DTEND:20221012T070000Z
GEO:+37.995376;+23.743086
LOCATION:Αθήνα\, \nΔικαστήρια Ευελπίδων
SUMMARY:Συγκέντρωση αλληλεγγύης για τη δίκη της πρώτης εκκένωσης της κατάλη
 ψης GARE
URL:https://thessaloniki.kinimatorama.net/event/142764
END:VEVENT
END:VCALENDAR
