BEGIN:VCALENDAR
VERSION:2.0
PRODID:-//demosphere.net//NONSGML kigkonsult.se iCalcreator 2.22.1//
METHOD:REQUEST
X-WR-TIMEZONE:Europe/Athens
BEGIN:VEVENT
UID:https://thessaloniki.kinimatorama.net/event/142776
DTSTAMP:20221021T090000Z
DESCRIPTION:περισσότερες πληροφορίες: https://thessaloniki.kinimatorama.net
 /event/142776 
DTSTART:20221021T090000Z
DTEND:20221021T100000Z
GEO:+37.969017;+23.780422
LOCATION:Ζωγράφου\, \nΑναρχικό Στέκι Φιλοσοφικής \nαίθουσα 819\, 8ος όροφος
  \nΠανεπιστημιούπολη Ζωγράφου
SUMMARY:Βιβλιοπωλείο Μαυροκόκκινο Νήμα
URL:https://thessaloniki.kinimatorama.net/event/142776
END:VEVENT
END:VCALENDAR
