BEGIN:VCALENDAR
VERSION:2.0
PRODID:-//demosphere.net//NONSGML kigkonsult.se iCalcreator 2.22.1//
METHOD:REQUEST
X-WR-TIMEZONE:Europe/Athens
BEGIN:VEVENT
UID:https://thessaloniki.kinimatorama.net/event/142810
DTSTAMP:20221012T170000Z
DESCRIPTION:περισσότερες πληροφορίες: https://thessaloniki.kinimatorama.net
 /event/142810 
DTSTART:20221012T170000Z
DTEND:20221012T180000Z
GEO:+37.994854;+23.740732
LOCATION:Αθήνα\, \nΠλατεία Πρωτομαγιάς \nΠεδίον του Άρεως
SUMMARY:Ανοιχτή Συνέλευση αλληλεγγύης στους 4 διωκόμενους/η αναρχικούς/ή
URL:https://thessaloniki.kinimatorama.net/event/142810
END:VEVENT
END:VCALENDAR
