BEGIN:VCALENDAR
VERSION:2.0
PRODID:-//demosphere.net//NONSGML kigkonsult.se iCalcreator 2.22.1//
METHOD:REQUEST
X-WR-TIMEZONE:Europe/Athens
BEGIN:VEVENT
UID:https://thessaloniki.kinimatorama.net/event/143196
DTSTAMP:20221023T100000Z
DESCRIPTION:περισσότερες πληροφορίες: https://thessaloniki.kinimatorama.net
 /event/143196 
DTSTART:20221023T100000Z
DTEND:20221023T110000Z
GEO:+40.633903;+22.95648
LOCATION:Θεσσαλονίκη\, \nΣχολή Θετικών Επιστημών (ΣΘΕ) ΑΠΘ
SUMMARY:Ρεμπέτικο γλέντι ΑΡΣΥΠ - ΑΝΑΒΙΟΣΥ
URL:https://thessaloniki.kinimatorama.net/event/143196
END:VEVENT
END:VCALENDAR
