BEGIN:VCALENDAR
VERSION:2.0
PRODID:-//demosphere.net//NONSGML kigkonsult.se iCalcreator 2.22.1//
METHOD:REQUEST
X-WR-TIMEZONE:Europe/Athens
BEGIN:VEVENT
UID:https://thessaloniki.kinimatorama.net/event/143441
DTSTAMP:20221031T193000Z
DESCRIPTION:περισσότερες πληροφορίες: https://thessaloniki.kinimatorama.net
 /event/143441 
DTSTART:20221031T193000Z
DTEND:20221031T203000Z
GEO:+40.633903;+22.95648
LOCATION:Θεσσαλονίκη\, \nΣχολή Θετικών Επιστημών (ΣΘΕ) ΑΠΘ
SUMMARY:Ανοιχτές Πρόβες Θεατρικής Ομάδας Πολυτεχνείου (Θ.Ο.Π.)
URL:https://thessaloniki.kinimatorama.net/event/143441
END:VEVENT
END:VCALENDAR
