BEGIN:VCALENDAR
VERSION:2.0
PRODID:-//demosphere.net//NONSGML kigkonsult.se iCalcreator 2.22.1//
METHOD:REQUEST
X-WR-TIMEZONE:Europe/Athens
BEGIN:VEVENT
UID:https://thessaloniki.kinimatorama.net/event/143442
DTSTAMP:20221103T193000Z
DESCRIPTION:περισσότερες πληροφορίες: https://thessaloniki.kinimatorama.net
 /event/143442 
DTSTART:20221103T193000Z
DTEND:20221103T203000Z
GEO:+40.633903;+22.95648
LOCATION:Θεσσαλονίκη\, \nΣχολή Θετικών Επιστημών (ΣΘΕ) ΑΠΘ
SUMMARY:Ανοιχτές Πρόβες Θεατρικής Ομάδας Πολυτεχνείου (Θ.Ο.Π.)
URL:https://thessaloniki.kinimatorama.net/event/143442
END:VEVENT
END:VCALENDAR
