BEGIN:VCALENDAR
VERSION:2.0
PRODID:-//demosphere.net//NONSGML kigkonsult.se iCalcreator 2.22.1//
METHOD:REQUEST
X-WR-TIMEZONE:Europe/Athens
BEGIN:VEVENT
UID:https://thessaloniki.kinimatorama.net/event/144210
DTSTAMP:20221114T160000Z
DESCRIPTION:περισσότερες πληροφορίες: https://thessaloniki.kinimatorama.net
 /event/144210 
DTSTART:20221114T160000Z
DTEND:20221114T170000Z
GEO:+40.633903;+22.95648
LOCATION:Θεσσαλονίκη\, \nΣχολή Θετικών Επιστημών (ΣΘΕ) ΑΠΘ
SUMMARY:[Μεταφέρεται] Ανοιχτή συνέλευση ενάντια στο νέο σωφρονιστικό κώδικα
URL:https://thessaloniki.kinimatorama.net/event/144210
END:VEVENT
END:VCALENDAR
