BEGIN:VCALENDAR
VERSION:2.0
PRODID:-//demosphere.net//NONSGML kigkonsult.se iCalcreator 2.22.1//
METHOD:REQUEST
X-WR-TIMEZONE:Europe/Athens
BEGIN:VEVENT
UID:https://thessaloniki.kinimatorama.net/event/144221
DTSTAMP:20221110T090000Z
DESCRIPTION:περισσότερες πληροφορίες: https://thessaloniki.kinimatorama.net
 /event/144221 
DTSTART:20221110T090000Z
DTEND:20221110T100000Z
GEO:+40.639326;+22.932823
LOCATION:Θεσσαλονίκη\, \nΔικαστήρια Θεσσαλονίκης
SUMMARY:Συγκέντρωση αλληλεγγύης στους/στις συλληφθέντες/συλληφθεισες της 9/
 11
URL:https://thessaloniki.kinimatorama.net/event/144221
END:VEVENT
END:VCALENDAR
