BEGIN:VCALENDAR
VERSION:2.0
PRODID:-//demosphere.net//NONSGML kigkonsult.se iCalcreator 2.22.1//
METHOD:REQUEST
X-WR-TIMEZONE:Europe/Athens
BEGIN:VEVENT
UID:https://thessaloniki.kinimatorama.net/event/144717
DTSTAMP:20221123T180000Z
DESCRIPTION:περισσότερες πληροφορίες: https://thessaloniki.kinimatorama.net
 /event/144717 
DTSTART:20221123T180000Z
DTEND:20221123T190000Z
GEO:+35.341459;+25.132416
LOCATION:Ηράκλειο\, \nΚατάληψη Ευαγγελισμού \nΘεοτοκοπούλου 18
SUMMARY:Ανοιχτή συνέλευση για την ταξική αλληλεγγύη στους απεργούς της Μαλα
 ματίνα
URL:https://thessaloniki.kinimatorama.net/event/144717
END:VEVENT
END:VCALENDAR
