BEGIN:VCALENDAR
VERSION:2.0
PRODID:-//demosphere.net//NONSGML kigkonsult.se iCalcreator 2.22.1//
METHOD:REQUEST
X-WR-TIMEZONE:Europe/Athens
BEGIN:VEVENT
UID:https://thessaloniki.kinimatorama.net/event/144749
DTSTAMP:20221122T192100Z
DESCRIPTION:περισσότερες πληροφορίες: https://thessaloniki.kinimatorama.net
 /event/144749 
DTSTART:20221122T192100Z
DTEND:20221122T202100Z
GEO:+40.633903;+22.95648
LOCATION:Θεσσαλονίκη\, \nΣχολή Θετικών Επιστημών (ΣΘΕ) ΑΠΘ
SUMMARY:C.U.M & CineDroga προβάλλουν : Not Without My Daughter
URL:https://thessaloniki.kinimatorama.net/event/144749
END:VEVENT
END:VCALENDAR
