BEGIN:VCALENDAR
VERSION:2.0
PRODID:-//demosphere.net//NONSGML kigkonsult.se iCalcreator 2.22.1//
METHOD:REQUEST
X-WR-TIMEZONE:Europe/Athens
BEGIN:VEVENT
UID:https://thessaloniki.kinimatorama.net/event/144949
DTSTAMP:20221129T163000Z
DESCRIPTION:περισσότερες πληροφορίες: https://thessaloniki.kinimatorama.net
 /event/144949 
DTSTART:20221129T163000Z
DTEND:20221129T173000Z
GEO:+40.633903;+22.95648
LOCATION:Θεσσαλονίκη\, \nΣχολή Θετικών Επιστημών (ΣΘΕ) ΑΠΘ
SUMMARY:εκδηλωση για A. Cospito και εναντια στο νόμο 41 bis
URL:https://thessaloniki.kinimatorama.net/event/144949
END:VEVENT
END:VCALENDAR
