BEGIN:VCALENDAR
VERSION:2.0
PRODID:-//demosphere.net//NONSGML kigkonsult.se iCalcreator 2.22.1//
METHOD:REQUEST
X-WR-TIMEZONE:Europe/Athens
BEGIN:VEVENT
UID:https://thessaloniki.kinimatorama.net/event/144981
DTSTAMP:20221210T100000Z
DESCRIPTION:περισσότερες πληροφορίες: https://thessaloniki.kinimatorama.net
 /event/144981 
DTSTART:20221210T100000Z
DTEND:20221210T110000Z
GEO:+38.00095;+23.737762
LOCATION:Αθήνα\, \nΔημοτική Αγορά Κυψέλης \nΦωκίωνος Νέγρη 42
SUMMARY:Πορεία ενάντια στην ακρίβεια και τη γενικότερη υποτίμηση των ζωών μ
 ας
URL:https://thessaloniki.kinimatorama.net/event/144981
END:VEVENT
END:VCALENDAR
