BEGIN:VCALENDAR
VERSION:2.0
PRODID:-//demosphere.net//NONSGML kigkonsult.se iCalcreator 2.22.1//
METHOD:REQUEST
X-WR-TIMEZONE:Europe/Athens
BEGIN:VEVENT
UID:https://thessaloniki.kinimatorama.net/event/145087
DTSTAMP:20221129T090000Z
DESCRIPTION:περισσότερες πληροφορίες: https://thessaloniki.kinimatorama.net
 /event/145087 
DTSTART:20221129T090000Z
DTEND:20221129T100000Z
GEO:+40.639326;+22.932823
LOCATION:Θεσσαλονίκη\, \nΔικαστήρια Θεσσαλονίκης
SUMMARY:Συγκέντρωση για τους/ις συλληφθέντες/είσες της κατάληψης Mundo Nuev
 o
URL:https://thessaloniki.kinimatorama.net/event/145087
END:VEVENT
END:VCALENDAR
